BEGIN:VCALENDAR
VERSION:2.0
PRODID:-//La Casa Latina e.V. - ECPv6.6.4//NONSGML v1.0//EN
CALSCALE:GREGORIAN
METHOD:PUBLISH
X-WR-CALNAME:La Casa Latina e.V.
X-ORIGINAL-URL:https://lacasalatina.de/es
X-WR-CALDESC:Eventos para La Casa Latina e.V.
REFRESH-INTERVAL;VALUE=DURATION:PT1H
X-Robots-Tag:noindex
X-PUBLISHED-TTL:PT1H
BEGIN:VTIMEZONE
TZID:UTC
BEGIN:STANDARD
TZOFFSETFROM:+0000
TZOFFSETTO:+0000
TZNAME:UTC
DTSTART:20240101T000000
END:STANDARD
END:VTIMEZONE
BEGIN:VEVENT
DTSTART;TZID=UTC:20241006T130000
DTEND;TZID=UTC:20241006T170000
DTSTAMP:20260426T025949
CREATED:20240912T172810Z
LAST-MODIFIED:20240912T172810Z
UID:4536-1728219600-1728234000@lacasalatina.de
SUMMARY:¡Intercambia y Descubre! - Tauschmarkt mit Kleidertausch
DESCRIPTION:Am 06. Oktober von 13 bis 17 Uhr erwartet dich ein besonderer Tauschmarkt! Diesmal in den Räumen der alten VHS in der Rölsdorfstr. 20 in 53225 Bonn – Beuel. Neben unserem beliebten Kleidertausch kannst du auch andere Dinge tauschen\, von Büchern bis zu Haushaltsgegenständen. In gemütlicher Atmosphäre sorgen Musik\, Getränke und leckere Empanadas gegen Spende für dein Wohl. Komm vorbei\, tausche nachhaltig und genieße einen tollen Nachmittag in Gemeinschaft! Veranstaltet von La Casa Latina e.V. in Kooperation mit der alten VHS
URL:https://lacasalatina.de/es/event/intercambia-y-descubre-tauschmarkt-mit-kleidertausch/
LOCATION:Alte VHS\, Rölsdorfstr. 20\, Bonn\, Germany
ATTACH;FMTTYPE=image/jpeg:https://lacasalatina.de/wp-content/uploads/2024/09/0ct-06-24-Kleidertausch-ar2-3.jpg
END:VEVENT
END:VCALENDAR